Package: onlineFDR Version: 2.17.0 Command: F:\biocbuild\bbs-3.22-bioc\R\bin\R.exe CMD INSTALL onlineFDR StartedAt: 2025-07-22 15:21:56 -0400 (Tue, 22 Jul 2025) EndedAt: 2025-07-22 15:23:16 -0400 (Tue, 22 Jul 2025) EllapsedTime: 80.0 seconds RetCode: 0 Status: OK