Package: onlineFDR Version: 2.17.0 Command: F:\biocbuild\bbs-3.22-bioc\R\bin\R.exe CMD check --no-multiarch --install=check:onlineFDR.install-out.txt --library=F:\biocbuild\bbs-3.22-bioc\R\library --no-vignettes --timings onlineFDR_2.17.0.tar.gz StartedAt: 2025-07-23 04:56:19 -0400 (Wed, 23 Jul 2025) EndedAt: 2025-07-23 04:57:21 -0400 (Wed, 23 Jul 2025) EllapsedTime: 62.4 seconds RetCode: 0 Status: OK CheckDir: onlineFDR.Rcheck Warnings: 0