Package: onlineFDR Version: 2.17.0 Command: /Library/Frameworks/R.framework/Resources/bin/R CMD check --install=check:onlineFDR.install-out.txt --library=/Library/Frameworks/R.framework/Resources/library --no-vignettes --timings onlineFDR_2.17.0.tar.gz StartedAt: 2025-07-01 22:29:49 -0400 (Tue, 01 Jul 2025) EndedAt: 2025-07-01 22:30:27 -0400 (Tue, 01 Jul 2025) EllapsedTime: 38.1 seconds RetCode: 0 Status: OK CheckDir: onlineFDR.Rcheck Warnings: 0