Package: onlineFDR Version: 2.17.0 Command: /Library/Frameworks/R.framework/Resources/bin/R CMD build --keep-empty-dirs --no-resave-data onlineFDR StartedAt: 2025-07-01 17:57:52 -0400 (Tue, 01 Jul 2025) EndedAt: 2025-07-01 17:58:35 -0400 (Tue, 01 Jul 2025) EllapsedTime: 42.3 seconds RetCode: 0 Status: OK PackageFile: onlineFDR_2.17.0.tar.gz PackageFileSize: 1.921 MiB