Package: onlineFDR Version: 2.17.0 Command: /Library/Frameworks/R.framework/Resources/bin/R CMD INSTALL onlineFDR StartedAt: 2025-07-01 15:01:52 -0400 (Tue, 01 Jul 2025) EndedAt: 2025-07-01 15:02:05 -0400 (Tue, 01 Jul 2025) EllapsedTime: 13.2 seconds RetCode: 0 Status: OK