Package: onlineFDR Version: 2.17.0 Command: /Library/Frameworks/R.framework/Resources/bin/R CMD build --keep-empty-dirs --no-resave-data onlineFDR StartedAt: 2025-07-01 17:06:55 -0400 (Tue, 01 Jul 2025) EndedAt: 2025-07-01 17:07:09 -0400 (Tue, 01 Jul 2025) EllapsedTime: 14.2 seconds RetCode: 1 Status: ERROR PackageFile: None PackageFileSize: NA