Package: ompBAM Version: 1.13.0 Command: F:\biocbuild\bbs-3.22-bioc\R\bin\R.exe CMD check --no-multiarch --install=check:ompBAM.install-out.txt --library=F:\biocbuild\bbs-3.22-bioc\R\library --no-vignettes --timings ompBAM_1.13.0.tar.gz StartedAt: 2025-07-16 04:44:19 -0400 (Wed, 16 Jul 2025) EndedAt: 2025-07-16 04:46:04 -0400 (Wed, 16 Jul 2025) EllapsedTime: 104.3 seconds RetCode: 0 Status: OK CheckDir: ompBAM.Rcheck Warnings: 0