Package: omicsPrint Version: 1.29.0 Command: /Library/Frameworks/R.framework/Resources/bin/R CMD check --install=check:omicsPrint.install-out.txt --library=/Library/Frameworks/R.framework/Resources/library --no-vignettes --timings omicsPrint_1.29.0.tar.gz StartedAt: 2025-07-01 20:31:49 -0400 (Tue, 01 Jul 2025) EndedAt: 2025-07-01 20:32:58 -0400 (Tue, 01 Jul 2025) EllapsedTime: 68.8 seconds RetCode: 0 Status: WARNINGS CheckDir: omicsPrint.Rcheck Warnings: 1