Package: omicsPrint Version: 1.29.0 Command: /Library/Frameworks/R.framework/Resources/bin/R CMD build --keep-empty-dirs --no-resave-data omicsPrint StartedAt: 2025-07-01 17:06:24 -0400 (Tue, 01 Jul 2025) EndedAt: 2025-07-01 17:06:51 -0400 (Tue, 01 Jul 2025) EllapsedTime: 27.3 seconds RetCode: 0 Status: OK PackageFile: omicsPrint_1.29.0.tar.gz PackageFileSize: 4.339 MiB