Package: omicsPrint Version: 1.29.0 Command: rm -rf omicsPrint.buildbin-libdir && mkdir omicsPrint.buildbin-libdir && /Users/biocbuild/BBS/utils/build-universal.sh omicsPrint_1.29.0.tar.gz /Library/Frameworks/R.framework/Resources/bin/R omicsPrint.buildbin-libdir StartedAt: 2025-07-01 22:28:17 -0400 (Tue, 01 Jul 2025) EndedAt: 2025-07-01 22:28:30 -0400 (Tue, 01 Jul 2025) EllapsedTime: 12.3 seconds RetCode: 0 Status: OK PackageFile: omicsPrint_1.29.0.tgz PackageFileSize: 7.419 MiB