Package: omicade4 Version: 1.49.0 Command: /home/biocbuild/R/R/bin/R CMD check --install=check:omicade4.install-out.txt --library=/home/biocbuild/R/R/site-library --no-vignettes --timings omicade4_1.49.0.tar.gz StartedAt: 2025-07-08 09:13:59 -0000 (Tue, 08 Jul 2025) EndedAt: 2025-07-08 09:17:04 -0000 (Tue, 08 Jul 2025) EllapsedTime: 185.3 seconds RetCode: 0 Status: OK CheckDir: omicade4.Rcheck Warnings: 0