Package: omicade4 Version: 1.49.0 Command: /home/biocbuild/R/R/bin/R CMD build --keep-empty-dirs --no-resave-data omicade4 StartedAt: 2025-07-08 01:17:57 -0000 (Tue, 08 Jul 2025) EndedAt: 2025-07-08 01:18:38 -0000 (Tue, 08 Jul 2025) EllapsedTime: 41.0 seconds RetCode: 0 Status: OK PackageFile: omicade4_1.49.0.tar.gz PackageFileSize: 535.5 KiB