Package: omicRexposome Version: 1.31.0 Command: /home/biocbuild/R/R/bin/R CMD INSTALL omicRexposome StartedAt: 2025-07-17 20:41:18 -0000 (Thu, 17 Jul 2025) EndedAt: 2025-07-17 20:42:17 -0000 (Thu, 17 Jul 2025) EllapsedTime: 58.7 seconds RetCode: 0 Status: OK