Package: omicRexposome Version: 1.31.0 Command: /home/biocbuild/R/R/bin/R CMD check --install=check:omicRexposome.install-out.txt --library=/home/biocbuild/R/R/site-library --no-vignettes --timings omicRexposome_1.31.0.tar.gz StartedAt: 2025-07-18 09:28:06 -0000 (Fri, 18 Jul 2025) EndedAt: 2025-07-18 09:34:32 -0000 (Fri, 18 Jul 2025) EllapsedTime: 385.7 seconds RetCode: 0 Status: OK CheckDir: omicRexposome.Rcheck Warnings: 0