Package: omicRexposome Version: 1.31.0 Command: /home/biocbuild/bbs-3.22-bioc/R/bin/R CMD check --install=check:omicRexposome.install-out.txt --library=/home/biocbuild/bbs-3.22-bioc/R/site-library --timings omicRexposome_1.31.0.tar.gz StartedAt: 2025-07-16 00:44:25 -0400 (Wed, 16 Jul 2025) EndedAt: 2025-07-16 01:01:32 -0400 (Wed, 16 Jul 2025) EllapsedTime: 1026.6 seconds RetCode: 0 Status: OK CheckDir: omicRexposome.Rcheck Warnings: 0