Package: omicRexposome Version: 1.31.0 Command: /Library/Frameworks/R.framework/Resources/bin/R CMD build --keep-empty-dirs --no-resave-data omicRexposome StartedAt: 2025-07-14 17:55:01 -0400 (Mon, 14 Jul 2025) EndedAt: 2025-07-14 18:07:36 -0400 (Mon, 14 Jul 2025) EllapsedTime: 754.8 seconds RetCode: 0 Status: OK PackageFile: omicRexposome_1.31.0.tar.gz PackageFileSize: 2.624 MiB