############################################################################## ############################################################################## ### ### Running command: ### ### /home/biocbuild/R/R/bin/R CMD check --install=check:omada.install-out.txt --library=/home/biocbuild/R/R/site-library --no-vignettes --timings omada_1.11.0.tar.gz ### ############################################################################## ############################################################################## * using log directory ‘/home/biocbuild/bbs-3.22-bioc/meat/omada.Rcheck’ * using R version 4.5.0 (2025-04-11) * using platform: aarch64-unknown-linux-gnu * R was compiled by aarch64-unknown-linux-gnu-gcc (GCC) 14.2.0 GNU Fortran (GCC) 14.2.0 * running under: openEuler 24.03 (LTS) * using session charset: UTF-8 * using option ‘--no-vignettes’ * checking for file ‘omada/DESCRIPTION’ ... OK * checking extension type ... Package * this is package ‘omada’ version ‘1.11.0’ * package encoding: UTF-8 * checking package namespace information ... OK * checking package dependencies ... INFO Depends: includes the non-default packages: 'pdfCluster', 'kernlab', 'fpc', 'Rcpp', 'diceR', 'ggplot2', 'reshape', 'genieclust', 'clValid', 'glmnet', 'dplyr' Adding so many packages to the search path is excessive and importing selectively is preferable. * checking if this is a source package ... OK * checking if there is a namespace ... OK * checking for hidden files and directories ... OK * checking for portable file names ... OK * checking for sufficient/correct file permissions ... OK * checking whether package ‘omada’ can be installed ... OK * checking installed package size ... OK * checking package directory ... OK * checking ‘build’ directory ... OK * checking DESCRIPTION meta-information ... OK * checking top-level files ... NOTE File LICENSE is not mentioned in the DESCRIPTION file. * checking for left-over files ... OK * checking index information ... OK * checking package subdirectories ... OK * checking code files for non-ASCII characters ... OK * checking R files for syntax errors ... OK * checking whether the package can be loaded ... OK * checking whether the package can be loaded with stated dependencies ... OK * checking whether the package can be unloaded cleanly ... OK * checking whether the namespace can be loaded with stated dependencies ... OK * checking whether the namespace can be unloaded cleanly ... OK * checking loading without being on the library search path ... OK * checking dependencies in R code ... NOTE Packages in Depends field not imported from: ‘Rcpp’ ‘dplyr’ ‘genieclust’ ‘glmnet’ ‘kernlab’ ‘reshape’ These packages need to be imported from (in the NAMESPACE file) for when this namespace is loaded but not attached. * checking S3 generic/method consistency ... OK * checking replacement functions ... OK * checking foreign function calls ... OK * checking R code for possible problems ... NOTE Index.15and28: no visible global function definition for ‘dist’ Index.15and28: no visible global function definition for ‘as.dist’ Index.sPlussMoins: no visible global function definition for ‘dist’ Index.sPlussMoins: no visible global function definition for ‘as.dist’ Index.sPlussMoins: no visible global function definition for ‘median’ Indice.cindex: no visible global function definition for ‘dist’ clusterVoting: no visible global function definition for ‘calinhara’ clusterVoting: no visible global function definition for ‘generalised_dunn_index’ clusterVoting: no visible global function definition for ‘silhouette_index’ clusterVoting: no visible global function definition for ‘negated_davies_bouldin_index’ clusterVoting: no visible binding for global variable ‘k’ clusterVoting: no visible binding for global variable ‘Frequency’ clusteringMethodSelection: no visible binding for global variable ‘value’ clusteringMethodSelection: no visible binding for global variable ‘methods’ featureSelection: no visible binding for global variable ‘featureSet’ featureSelection: no visible binding for global variable ‘means’ Undefined global functions or variables: Frequency as.dist calinhara dist featureSet generalised_dunn_index k means median methods negated_davies_bouldin_index silhouette_index value Consider adding importFrom("stats", "as.dist", "dist", "median") importFrom("utils", "methods") to your NAMESPACE file. * checking Rd files ... OK * checking Rd metadata ... OK * checking Rd cross-references ... OK * checking for missing documentation entries ... OK * checking for code/documentation mismatches ... OK * checking Rd \usage sections ... OK * checking Rd contents ... OK * checking for unstated dependencies in examples ... OK * checking contents of ‘data’ directory ... OK * checking data for non-ASCII characters ... OK * checking LazyData ... OK * checking data for ASCII and uncompressed saves ... OK * checking files in ‘vignettes’ ... OK * checking examples ... OK Examples with CPU (user + system) or elapsed time > 5s user system elapsed get_feature_selection_scores 46.546 0.136 46.890 get_feature_selection_optimal_number_of_features 44.909 0.116 45.400 plot_partition_agreement 32.002 0.088 32.806 plot_feature_selection 31.878 0.091 32.748 get_sample_memberships 31.627 0.107 32.524 get_cluster_voting_k_votes 31.336 0.180 31.972 get_cluster_voting_memberships 31.306 0.071 31.692 get_cluster_voting_metric_votes 31.160 0.163 31.550 get_partition_agreement_scores 31.065 0.083 31.909 get_cluster_voting_scores 30.707 0.116 30.942 get_feature_selection_optimal_features 30.416 0.075 30.629 omada 24.331 0.068 24.704 plot_cluster_voting 24.184 0.056 24.956 plot_average_stabilities 10.523 0.028 10.582 get_optimal_features 10.055 0.015 10.261 get_optimal_number_of_features 9.613 0.018 9.719 get_optimal_memberships 9.165 0.018 9.199 get_optimal_parameter_used 8.589 0.012 8.616 get_optimal_stability_score 8.562 0.016 8.594 featureSelection 7.771 0.059 7.934 clusterVoting 5.015 0.040 5.303 * checking for unstated dependencies in ‘tests’ ... OK * checking tests ... Running ‘testthat.R’ OK * checking for unstated dependencies in vignettes ... OK * checking package vignettes ... OK * checking running R code from vignettes ... SKIPPED * checking re-building of vignette outputs ... SKIPPED * checking PDF version of manual ... OK * DONE Status: 3 NOTEs See ‘/home/biocbuild/bbs-3.22-bioc/meat/omada.Rcheck/00check.log’ for details.