Package: omada Version: 1.11.0 Command: F:\biocbuild\bbs-3.22-bioc\R\bin\R.exe CMD INSTALL omada StartedAt: 2025-07-21 16:04:22 -0400 (Mon, 21 Jul 2025) EndedAt: 2025-07-21 16:04:57 -0400 (Mon, 21 Jul 2025) EllapsedTime: 35.5 seconds RetCode: 0 Status: OK