Package: omada Version: 1.11.0 Command: F:\biocbuild\bbs-3.22-bioc\R\bin\R.exe CMD check --no-multiarch --install=check:omada.install-out.txt --library=F:\biocbuild\bbs-3.22-bioc\R\library --no-vignettes --timings omada_1.11.0.tar.gz StartedAt: 2025-07-22 04:52:42 -0400 (Tue, 22 Jul 2025) EndedAt: 2025-07-22 05:05:38 -0400 (Tue, 22 Jul 2025) EllapsedTime: 776.5 seconds RetCode: 0 Status: OK CheckDir: omada.Rcheck Warnings: 0