Package: omada Version: 1.11.0 Command: chmod a+r omada -R && F:\biocbuild\bbs-3.22-bioc\R\bin\R.exe CMD build --keep-empty-dirs --no-resave-data omada StartedAt: 2025-07-21 20:53:50 -0400 (Mon, 21 Jul 2025) EndedAt: 2025-07-21 20:57:04 -0400 (Mon, 21 Jul 2025) EllapsedTime: 194.2 seconds RetCode: 0 Status: OK PackageFile: omada_1.11.0.tar.gz PackageFileSize: 82.88 KiB