Package: omada Version: 1.11.0 Command: rm -rf omada.buildbin-libdir && mkdir omada.buildbin-libdir && F:\biocbuild\bbs-3.22-bioc\R\bin\R.exe CMD INSTALL --build --library=omada.buildbin-libdir omada_1.11.0.tar.gz StartedAt: 2025-07-22 09:41:58 -0400 (Tue, 22 Jul 2025) EndedAt: 2025-07-22 09:42:40 -0400 (Tue, 22 Jul 2025) EllapsedTime: 42.2 seconds RetCode: 0 Status: OK PackageFile: omada_1.11.0.zip PackageFileSize: 189.7 KiB