Package: omXplore Version: 1.3.0 Command: /Library/Frameworks/R.framework/Resources/bin/R CMD INSTALL omXplore StartedAt: 2025-07-21 15:22:52 -0400 (Mon, 21 Jul 2025) EndedAt: 2025-07-21 15:23:09 -0400 (Mon, 21 Jul 2025) EllapsedTime: 17.4 seconds RetCode: 0 Status: OK