Package: omXplore Version: 1.3.0 Command: /Library/Frameworks/R.framework/Resources/bin/R CMD check --install=check:omXplore.install-out.txt --library=/Library/Frameworks/R.framework/Resources/library --no-vignettes --timings omXplore_1.3.0.tar.gz StartedAt: 2025-07-21 20:37:10 -0400 (Mon, 21 Jul 2025) EndedAt: 2025-07-21 20:39:13 -0400 (Mon, 21 Jul 2025) EllapsedTime: 123.5 seconds RetCode: 0 Status: WARNINGS CheckDir: omXplore.Rcheck Warnings: 1