Package: omXplore Version: 1.3.0 Command: /Library/Frameworks/R.framework/Resources/bin/R CMD build --keep-empty-dirs --no-resave-data omXplore StartedAt: 2025-07-21 17:06:59 -0400 (Mon, 21 Jul 2025) EndedAt: 2025-07-21 17:07:25 -0400 (Mon, 21 Jul 2025) EllapsedTime: 26.3 seconds RetCode: 0 Status: OK PackageFile: omXplore_1.3.0.tar.gz PackageFileSize: 2.013 MiB