Package: omXplore Version: 1.3.0 Command: rm -rf omXplore.buildbin-libdir && mkdir omXplore.buildbin-libdir && /Users/biocbuild/BBS/utils/build-universal.sh omXplore_1.3.0.tar.gz /Library/Frameworks/R.framework/Resources/bin/R omXplore.buildbin-libdir StartedAt: 2025-07-21 22:34:55 -0400 (Mon, 21 Jul 2025) EndedAt: 2025-07-21 22:35:15 -0400 (Mon, 21 Jul 2025) EllapsedTime: 19.4 seconds RetCode: 0 Status: OK PackageFile: omXplore_1.3.0.tgz PackageFileSize: 1.561 MiB