Package: oligo Version: 1.73.0 Command: /home/biocbuild/R/R/bin/R CMD INSTALL oligo StartedAt: 2025-07-17 20:30:18 -0000 (Thu, 17 Jul 2025) EndedAt: 2025-07-17 20:31:03 -0000 (Thu, 17 Jul 2025) EllapsedTime: 45.4 seconds RetCode: 0 Status: OK