Package: oligo Version: 1.73.0 Command: /home/biocbuild/bbs-3.22-bioc/R/bin/R CMD INSTALL oligo StartedAt: 2025-10-03 15:20:14 -0400 (Fri, 03 Oct 2025) EndedAt: 2025-10-03 15:20:47 -0400 (Fri, 03 Oct 2025) EllapsedTime: 33.3 seconds RetCode: 0 Status: OK