Package: oligo Version: 1.73.0 Command: /Library/Frameworks/R.framework/Resources/bin/R CMD INSTALL oligo StartedAt: 2025-07-20 15:13:16 -0400 (Sun, 20 Jul 2025) EndedAt: 2025-07-20 15:13:31 -0400 (Sun, 20 Jul 2025) EllapsedTime: 14.9 seconds RetCode: 0 Status: OK