Package: oligo Version: 1.73.0 Command: /Library/Frameworks/R.framework/Resources/bin/R CMD build --keep-empty-dirs --no-resave-data oligo StartedAt: 2025-07-20 17:07:12 -0400 (Sun, 20 Jul 2025) EndedAt: 2025-07-20 17:07:31 -0400 (Sun, 20 Jul 2025) EllapsedTime: 19.2 seconds RetCode: 0 Status: OK PackageFile: oligo_1.73.0.tar.gz PackageFileSize: 27.09 MiB