Package: odseq Version: 1.37.0 Command: F:\biocbuild\bbs-3.22-bioc\R\bin\R.exe CMD check --no-multiarch --install=check:odseq.install-out.txt --library=F:\biocbuild\bbs-3.22-bioc\R\library --no-vignettes --timings odseq_1.37.0.tar.gz StartedAt: 2025-07-22 04:51:49 -0400 (Tue, 22 Jul 2025) EndedAt: 2025-07-22 04:54:25 -0400 (Tue, 22 Jul 2025) EllapsedTime: 155.8 seconds RetCode: 0 Status: OK CheckDir: odseq.Rcheck Warnings: 0