Package: odseq Version: 1.37.0 Command: rm -rf odseq.buildbin-libdir && mkdir odseq.buildbin-libdir && F:\biocbuild\bbs-3.22-bioc\R\bin\R.exe CMD INSTALL --build --library=odseq.buildbin-libdir odseq_1.37.0.tar.gz StartedAt: 2025-07-21 09:37:20 -0400 (Mon, 21 Jul 2025) EndedAt: 2025-07-21 09:37:41 -0400 (Mon, 21 Jul 2025) EllapsedTime: 20.9 seconds RetCode: 0 Status: OK PackageFile: odseq_1.37.0.zip PackageFileSize: 251.3 KiB