############################################################################## ############################################################################## ### ### Running command: ### ### /Library/Frameworks/R.framework/Resources/bin/R CMD build --keep-empty-dirs --no-resave-data odseq ### ############################################################################## ############################################################################## * checking for file ‘odseq/DESCRIPTION’ ... OK * preparing ‘odseq’: * checking DESCRIPTION meta-information ... OK * installing the package to process help pages ----------------------------------- ERROR: dependency ‘msa’ is not available for package ‘odseq’ Perhaps try a variation of: install.packages('msa') * removing ‘/private/var/folders/r0/l4fjk6cj5xj0j3brt4bplpl40000gt/T/RtmpnpaG7A/Rinst15741486f8bea/odseq’ ----------------------------------- ERROR: package installation failed