Package: octad Version: 1.11.1 Command: /Library/Frameworks/R.framework/Resources/bin/R CMD INSTALL octad StartedAt: 2025-06-29 15:45:41 -0400 (Sun, 29 Jun 2025) EndedAt: 2025-06-29 15:46:56 -0400 (Sun, 29 Jun 2025) EllapsedTime: 75.3 seconds RetCode: 0 Status: OK