Package: octad Version: 1.11.1 Command: /Library/Frameworks/R.framework/Resources/bin/R CMD INSTALL octad StartedAt: 2025-07-01 15:29:17 -0400 (Tue, 01 Jul 2025) EndedAt: 2025-07-01 15:29:40 -0400 (Tue, 01 Jul 2025) EllapsedTime: 22.7 seconds RetCode: 0 Status: OK