Package: octad Version: 1.11.1 Command: /Library/Frameworks/R.framework/Resources/bin/R CMD check --install=check:octad.install-out.txt --library=/Library/Frameworks/R.framework/Resources/library --no-vignettes --timings octad_1.11.1.tar.gz StartedAt: 2025-07-01 20:30:25 -0400 (Tue, 01 Jul 2025) EndedAt: 2025-07-01 20:33:49 -0400 (Tue, 01 Jul 2025) EllapsedTime: 203.5 seconds RetCode: 0 Status: OK CheckDir: octad.Rcheck Warnings: 0