Package: octad Version: 1.11.1 Command: rm -rf octad.buildbin-libdir && mkdir octad.buildbin-libdir && /Users/biocbuild/BBS/utils/build-universal.sh octad_1.11.1.tar.gz /Library/Frameworks/R.framework/Resources/bin/R octad.buildbin-libdir StartedAt: 2025-07-01 22:28:05 -0400 (Tue, 01 Jul 2025) EndedAt: 2025-07-01 22:28:30 -0400 (Tue, 01 Jul 2025) EllapsedTime: 24.5 seconds RetCode: 0 Status: OK PackageFile: octad_1.11.1.tgz PackageFileSize: 1.503 MiB