Package: occugene Version: 1.69.0 Command: /home/biocbuild/R/R/bin/R CMD build --keep-empty-dirs --no-resave-data occugene StartedAt: 2025-07-15 01:31:39 -0000 (Tue, 15 Jul 2025) EndedAt: 2025-07-15 01:31:45 -0000 (Tue, 15 Jul 2025) EllapsedTime: 6.0 seconds RetCode: 0 Status: OK PackageFile: occugene_1.69.0.tar.gz PackageFileSize: 186.8 KiB