Package: occugene Version: 1.69.0 Command: /Library/Frameworks/R.framework/Resources/bin/R CMD INSTALL occugene StartedAt: 2025-10-28 15:06:24 -0400 (Tue, 28 Oct 2025) EndedAt: 2025-10-28 15:06:41 -0400 (Tue, 28 Oct 2025) EllapsedTime: 17.2 seconds RetCode: 0 Status: OK