Package: occugene Version: 1.69.0 Command: /Library/Frameworks/R.framework/Resources/bin/R CMD build --keep-empty-dirs --no-resave-data occugene StartedAt: 2025-10-28 18:02:36 -0400 (Tue, 28 Oct 2025) EndedAt: 2025-10-28 18:02:47 -0400 (Tue, 28 Oct 2025) EllapsedTime: 11.5 seconds RetCode: 0 Status: OK PackageFile: occugene_1.69.0.tar.gz PackageFileSize: 194.8 KiB