Package: occugene Version: 1.69.0 Command: /Library/Frameworks/R.framework/Resources/bin/R CMD build --keep-empty-dirs --no-resave-data occugene StartedAt: 2025-07-16 17:05:43 -0400 (Wed, 16 Jul 2025) EndedAt: 2025-07-16 17:05:47 -0400 (Wed, 16 Jul 2025) EllapsedTime: 4.0 seconds RetCode: 0 Status: OK PackageFile: occugene_1.69.0.tar.gz PackageFileSize: 194.8 KiB