Package: nullranges Version: 1.15.1 Command: chmod a+r nullranges -R && F:\biocbuild\bbs-3.22-bioc\R\bin\R.exe CMD build --keep-empty-dirs --no-resave-data nullranges StartedAt: 2025-08-14 21:57:44 -0400 (Thu, 14 Aug 2025) EndedAt: 2025-08-14 22:05:00 -0400 (Thu, 14 Aug 2025) EllapsedTime: 436.6 seconds RetCode: 0 Status: OK PackageFile: nullranges_1.15.1.tar.gz PackageFileSize: 3.678 MiB