Package: nullranges Version: 1.15.1 Command: rm -rf nullranges.buildbin-libdir && mkdir nullranges.buildbin-libdir && F:\biocbuild\bbs-3.22-bioc\R\bin\R.exe CMD INSTALL --build --library=nullranges.buildbin-libdir nullranges_1.15.1.tar.gz StartedAt: 2025-08-15 10:51:51 -0400 (Fri, 15 Aug 2025) EndedAt: 2025-08-15 10:53:01 -0400 (Fri, 15 Aug 2025) EllapsedTime: 70.1 seconds RetCode: 0 Status: OK PackageFile: nullranges_1.15.1.zip PackageFileSize: 3.625 MiB