Package: nucleoSim Version: 1.37.0 Command: /home/biocbuild/R/R/bin/R CMD INSTALL nucleoSim StartedAt: 2025-07-10 21:20:25 -0000 (Thu, 10 Jul 2025) EndedAt: 2025-07-10 21:20:36 -0000 (Thu, 10 Jul 2025) EllapsedTime: 10.4 seconds RetCode: 0 Status: OK