Package: nucleoSim Version: 1.37.0 Command: chmod a+r nucleoSim -R && F:\biocbuild\bbs-3.22-bioc\R\bin\R.exe CMD build --keep-empty-dirs --no-resave-data nucleoSim StartedAt: 2025-07-20 20:47:24 -0400 (Sun, 20 Jul 2025) EndedAt: 2025-07-20 20:47:46 -0400 (Sun, 20 Jul 2025) EllapsedTime: 22.5 seconds RetCode: 0 Status: OK PackageFile: nucleoSim_1.37.0.tar.gz PackageFileSize: 302.7 KiB