Package: nucleoSim Version: 1.37.0 Command: rm -rf nucleoSim.buildbin-libdir && mkdir nucleoSim.buildbin-libdir && F:\biocbuild\bbs-3.22-bioc\R\bin\R.exe CMD INSTALL --build --library=nucleoSim.buildbin-libdir nucleoSim_1.37.0.tar.gz StartedAt: 2025-07-21 09:36:56 -0400 (Mon, 21 Jul 2025) EndedAt: 2025-07-21 09:37:13 -0400 (Mon, 21 Jul 2025) EllapsedTime: 16.3 seconds RetCode: 0 Status: OK PackageFile: nucleoSim_1.37.0.zip PackageFileSize: 339.7 KiB