Package: nucleoSim Version: 1.37.0 Command: /Library/Frameworks/R.framework/Resources/bin/R CMD check --install=check:nucleoSim.install-out.txt --library=/Library/Frameworks/R.framework/Resources/library --no-vignettes --timings nucleoSim_1.37.0.tar.gz StartedAt: 2025-07-04 22:13:41 -0400 (Fri, 04 Jul 2025) EndedAt: 2025-07-04 22:14:45 -0400 (Fri, 04 Jul 2025) EllapsedTime: 64.5 seconds RetCode: 0 Status: OK CheckDir: nucleoSim.Rcheck Warnings: 0