Package: nucleoSim Version: 1.37.0 Command: /Library/Frameworks/R.framework/Resources/bin/R CMD build --keep-empty-dirs --no-resave-data nucleoSim StartedAt: 2025-07-07 17:04:13 -0400 (Mon, 07 Jul 2025) EndedAt: 2025-07-07 17:04:18 -0400 (Mon, 07 Jul 2025) EllapsedTime: 5.1 seconds RetCode: 0 Status: OK PackageFile: nucleoSim_1.37.0.tar.gz PackageFileSize: 463.6 KiB