############################################################################## ############################################################################## ### ### Running command: ### ### /Library/Frameworks/R.framework/Resources/bin/R CMD INSTALL nucleR ### ############################################################################## ############################################################################## * installing to library ‘/Library/Frameworks/R.framework/Versions/4.5-arm64/Resources/library’ * installing *source* package ‘nucleR’ ... ** this is package ‘nucleR’ version ‘2.41.0’ ** using staged installation ** R ** data ** inst ** byte-compile and prepare package for lazy loading Loading required package: usethis Welcome at Mon Jul 14 15:26:37 2025 No methods found in package ‘GenomeInfoDb’ for request: ‘seqlevels<-’ when loading ‘nucleR’ No methods found in package ‘GenomeInfoDb’ for request: ‘seqnames’ when loading ‘nucleR’ No methods found in package ‘GenomeInfoDb’ for request: ‘sortSeqlevels’ when loading ‘nucleR’ Goodbye at Mon Jul 14 15:26:42 2025 ** help *** installing help indices ** building package indices Loading required package: usethis Welcome at Mon Jul 14 15:26:42 2025 Goodbye at Mon Jul 14 15:26:42 2025 ** installing vignettes ** testing if installed package can be loaded from temporary location Loading required package: usethis Welcome at Mon Jul 14 15:26:43 2025 No methods found in package ‘GenomeInfoDb’ for request: ‘seqlevels<-’ when loading ‘nucleR’ No methods found in package ‘GenomeInfoDb’ for request: ‘seqnames’ when loading ‘nucleR’ No methods found in package ‘GenomeInfoDb’ for request: ‘sortSeqlevels’ when loading ‘nucleR’ Goodbye at Mon Jul 14 15:26:46 2025 ** testing if installed package can be loaded from final location Loading required package: usethis Welcome at Mon Jul 14 15:26:47 2025 No methods found in package ‘GenomeInfoDb’ for request: ‘seqlevels<-’ when loading ‘nucleR’ No methods found in package ‘GenomeInfoDb’ for request: ‘seqnames’ when loading ‘nucleR’ No methods found in package ‘GenomeInfoDb’ for request: ‘sortSeqlevels’ when loading ‘nucleR’ Goodbye at Mon Jul 14 15:26:51 2025 ** testing if installed package keeps a record of temporary installation path * DONE (nucleR)