Package: nucleR Version: 2.41.0 Command: /Library/Frameworks/R.framework/Resources/bin/R CMD check --install=check:nucleR.install-out.txt --library=/Library/Frameworks/R.framework/Resources/library --no-vignettes --timings nucleR_2.41.0.tar.gz StartedAt: 2025-07-14 20:29:54 -0400 (Mon, 14 Jul 2025) EndedAt: 2025-07-14 20:31:29 -0400 (Mon, 14 Jul 2025) EllapsedTime: 95.2 seconds RetCode: 1 Status: ERROR CheckDir: nucleR.Rcheck Warnings: NA