Package: nucleR Version: 2.41.0 Command: rm -rf nucleR.buildbin-libdir && mkdir nucleR.buildbin-libdir && /Users/biocbuild/BBS/utils/build-universal.sh nucleR_2.41.0.tar.gz /Library/Frameworks/R.framework/Resources/bin/R nucleR.buildbin-libdir StartedAt: 2025-07-14 22:28:09 -0400 (Mon, 14 Jul 2025) EndedAt: 2025-07-14 22:28:24 -0400 (Mon, 14 Jul 2025) EllapsedTime: 15.3 seconds RetCode: 0 Status: OK PackageFile: nucleR_2.41.0.tgz PackageFileSize: 1.954 MiB